BEGIN:VCALENDAR
VERSION:2.0
PRODID:-//Hovercraft Museum - ECPv6.15.16//NONSGML v1.0//EN
CALSCALE:GREGORIAN
METHOD:PUBLISH
X-ORIGINAL-URL:https://hovercraft-museum.org
X-WR-CALDESC:Events for Hovercraft Museum
REFRESH-INTERVAL;VALUE=DURATION:PT1H
X-Robots-Tag:noindex
X-PUBLISHED-TTL:PT1H
BEGIN:VTIMEZONE
TZID:UTC
BEGIN:STANDARD
TZOFFSETFROM:+0000
TZOFFSETTO:+0000
TZNAME:UTC
DTSTART:20250101T000000
END:STANDARD
END:VTIMEZONE
BEGIN:VEVENT
DTSTART;VALUE=DATE:20260404
DTEND;VALUE=DATE:20260405
DTSTAMP:20260423T111835
CREATED:20260310T110314Z
LAST-MODIFIED:20260310T203049Z
UID:10000878-1775260800-1775347199@hovercraft-museum.org
SUMMARY:Easter at The Hovercraft Museum
DESCRIPTION:Join us for Easter fun at The Hovercraft Museum\, find our Easter characters hidden around the museum or see if you can spot our colourful eggs in and around our Hovercraft Collection.  Great fun for all the family and all ages.
URL:https://hovercraft-museum.org/event/easter-at-the-hovercraft-museum/2026-04-04/
CATEGORIES:Activity
ATTACH;FMTTYPE=image/jpeg:https://hovercraft-museum.org/wp-content/uploads/2026/03/Easter-2-rotated.jpg
END:VEVENT
BEGIN:VEVENT
DTSTART;TZID=UTC:20260404T100000
DTEND;TZID=UTC:20260404T160000
DTSTAMP:20260423T111835
CREATED:20260310T204729Z
LAST-MODIFIED:20260310T204850Z
UID:10000911-1775296800-1775318400@hovercraft-museum.org
SUMMARY:Open Day
DESCRIPTION:
URL:https://hovercraft-museum.org/event/open-day/2026-04-04/
CATEGORIES:Open Day
ATTACH;FMTTYPE=image/png:https://hovercraft-museum.org/wp-content/uploads/2025/07/HOMEPAGE-Testimonials-IMAGE-1.png
END:VEVENT
BEGIN:VEVENT
DTSTART;VALUE=DATE:20260405
DTEND;VALUE=DATE:20260406
DTSTAMP:20260423T111835
CREATED:20260310T110314Z
LAST-MODIFIED:20260310T203049Z
UID:10000879-1775347200-1775433599@hovercraft-museum.org
SUMMARY:Easter at The Hovercraft Museum
DESCRIPTION:Join us for Easter fun at The Hovercraft Museum\, find our Easter characters hidden around the museum or see if you can spot our colourful eggs in and around our Hovercraft Collection.  Great fun for all the family and all ages.
URL:https://hovercraft-museum.org/event/easter-at-the-hovercraft-museum/2026-04-05/
CATEGORIES:Activity
ATTACH;FMTTYPE=image/jpeg:https://hovercraft-museum.org/wp-content/uploads/2026/03/Easter-2-rotated.jpg
END:VEVENT
BEGIN:VEVENT
DTSTART;TZID=UTC:20260405T100000
DTEND;TZID=UTC:20260405T160000
DTSTAMP:20260423T111835
CREATED:20260310T204729Z
LAST-MODIFIED:20260310T204850Z
UID:10000913-1775383200-1775404800@hovercraft-museum.org
SUMMARY:Open Day
DESCRIPTION:
URL:https://hovercraft-museum.org/event/open-day/2026-04-05/
CATEGORIES:Open Day
ATTACH;FMTTYPE=image/png:https://hovercraft-museum.org/wp-content/uploads/2025/07/HOMEPAGE-Testimonials-IMAGE-1.png
END:VEVENT
BEGIN:VEVENT
DTSTART;VALUE=DATE:20260406
DTEND;VALUE=DATE:20260407
DTSTAMP:20260423T111835
CREATED:20260310T110314Z
LAST-MODIFIED:20260310T203049Z
UID:10000887-1775469600-1775491200@hovercraft-museum.org
SUMMARY:Easter at The Hovercraft Museum
DESCRIPTION:Join us for Easter fun at The Hovercraft Museum\, find our Easter characters hidden around the museum or see if you can spot our colourful eggs in and around our Hovercraft Collection.  Great fun for all the family and all ages.
URL:https://hovercraft-museum.org/event/easter-at-the-hovercraft-museum/2026-04-06/
CATEGORIES:Activity
ATTACH;FMTTYPE=image/jpeg:https://hovercraft-museum.org/wp-content/uploads/2026/03/Easter-2-rotated.jpg
END:VEVENT
BEGIN:VEVENT
DTSTART;TZID=UTC:20260406T100000
DTEND;TZID=UTC:20260406T160000
DTSTAMP:20260423T111836
CREATED:20260310T204729Z
LAST-MODIFIED:20260310T204850Z
UID:10000912-1775469600-1775491200@hovercraft-museum.org
SUMMARY:Open Day
DESCRIPTION:
URL:https://hovercraft-museum.org/event/open-day/2026-04-06/
CATEGORIES:Open Day
ATTACH;FMTTYPE=image/png:https://hovercraft-museum.org/wp-content/uploads/2025/07/HOMEPAGE-Testimonials-IMAGE-1.png
END:VEVENT
BEGIN:VEVENT
DTSTART;VALUE=DATE:20260411
DTEND;VALUE=DATE:20260412
DTSTAMP:20260423T111836
CREATED:20260310T110314Z
LAST-MODIFIED:20260310T203049Z
UID:10000880-1775865600-1775951999@hovercraft-museum.org
SUMMARY:Easter at The Hovercraft Museum
DESCRIPTION:Join us for Easter fun at The Hovercraft Museum\, find our Easter characters hidden around the museum or see if you can spot our colourful eggs in and around our Hovercraft Collection.  Great fun for all the family and all ages.
URL:https://hovercraft-museum.org/event/easter-at-the-hovercraft-museum/2026-04-11/
CATEGORIES:Activity
ATTACH;FMTTYPE=image/jpeg:https://hovercraft-museum.org/wp-content/uploads/2026/03/Easter-2-rotated.jpg
END:VEVENT
BEGIN:VEVENT
DTSTART;TZID=UTC:20260411T100000
DTEND;TZID=UTC:20260411T160000
DTSTAMP:20260423T111836
CREATED:20260310T204729Z
LAST-MODIFIED:20260310T204850Z
UID:10000914-1775901600-1775923200@hovercraft-museum.org
SUMMARY:Open Day
DESCRIPTION:
URL:https://hovercraft-museum.org/event/open-day/2026-04-11/
CATEGORIES:Open Day
ATTACH;FMTTYPE=image/png:https://hovercraft-museum.org/wp-content/uploads/2025/07/HOMEPAGE-Testimonials-IMAGE-1.png
END:VEVENT
BEGIN:VEVENT
DTSTART;VALUE=DATE:20260412
DTEND;VALUE=DATE:20260413
DTSTAMP:20260423T111836
CREATED:20260310T110314Z
LAST-MODIFIED:20260310T203049Z
UID:10000881-1775952000-1776038399@hovercraft-museum.org
SUMMARY:Easter at The Hovercraft Museum
DESCRIPTION:Join us for Easter fun at The Hovercraft Museum\, find our Easter characters hidden around the museum or see if you can spot our colourful eggs in and around our Hovercraft Collection.  Great fun for all the family and all ages.
URL:https://hovercraft-museum.org/event/easter-at-the-hovercraft-museum/2026-04-12/
CATEGORIES:Activity
ATTACH;FMTTYPE=image/jpeg:https://hovercraft-museum.org/wp-content/uploads/2026/03/Easter-2-rotated.jpg
END:VEVENT
BEGIN:VEVENT
DTSTART;TZID=UTC:20260412T100000
DTEND;TZID=UTC:20260412T160000
DTSTAMP:20260423T111836
CREATED:20260310T204729Z
LAST-MODIFIED:20260310T204850Z
UID:10000915-1775988000-1776009600@hovercraft-museum.org
SUMMARY:Open Day
DESCRIPTION:
URL:https://hovercraft-museum.org/event/open-day/2026-04-12/
CATEGORIES:Open Day
ATTACH;FMTTYPE=image/png:https://hovercraft-museum.org/wp-content/uploads/2025/07/HOMEPAGE-Testimonials-IMAGE-1.png
END:VEVENT
BEGIN:VEVENT
DTSTART;VALUE=DATE:20260418
DTEND;VALUE=DATE:20260419
DTSTAMP:20260423T111836
CREATED:20260310T110314Z
LAST-MODIFIED:20260310T203049Z
UID:10000882-1776470400-1776556799@hovercraft-museum.org
SUMMARY:Easter at The Hovercraft Museum
DESCRIPTION:Join us for Easter fun at The Hovercraft Museum\, find our Easter characters hidden around the museum or see if you can spot our colourful eggs in and around our Hovercraft Collection.  Great fun for all the family and all ages.
URL:https://hovercraft-museum.org/event/easter-at-the-hovercraft-museum/2026-04-18/
CATEGORIES:Activity
ATTACH;FMTTYPE=image/jpeg:https://hovercraft-museum.org/wp-content/uploads/2026/03/Easter-2-rotated.jpg
END:VEVENT
BEGIN:VEVENT
DTSTART;TZID=UTC:20260418T100000
DTEND;TZID=UTC:20260418T160000
DTSTAMP:20260423T111836
CREATED:20260310T204729Z
LAST-MODIFIED:20260310T204850Z
UID:10000916-1776506400-1776528000@hovercraft-museum.org
SUMMARY:Open Day
DESCRIPTION:
URL:https://hovercraft-museum.org/event/open-day/2026-04-18/
CATEGORIES:Open Day
ATTACH;FMTTYPE=image/png:https://hovercraft-museum.org/wp-content/uploads/2025/07/HOMEPAGE-Testimonials-IMAGE-1.png
END:VEVENT
BEGIN:VEVENT
DTSTART;VALUE=DATE:20260419
DTEND;VALUE=DATE:20260420
DTSTAMP:20260423T111836
CREATED:20260310T110314Z
LAST-MODIFIED:20260310T203049Z
UID:10000883-1776556800-1776643199@hovercraft-museum.org
SUMMARY:Easter at The Hovercraft Museum
DESCRIPTION:Join us for Easter fun at The Hovercraft Museum\, find our Easter characters hidden around the museum or see if you can spot our colourful eggs in and around our Hovercraft Collection.  Great fun for all the family and all ages.
URL:https://hovercraft-museum.org/event/easter-at-the-hovercraft-museum/2026-04-19/
CATEGORIES:Activity
ATTACH;FMTTYPE=image/jpeg:https://hovercraft-museum.org/wp-content/uploads/2026/03/Easter-2-rotated.jpg
END:VEVENT
BEGIN:VEVENT
DTSTART;TZID=UTC:20260419T100000
DTEND;TZID=UTC:20260419T160000
DTSTAMP:20260423T111836
CREATED:20260310T204729Z
LAST-MODIFIED:20260310T204850Z
UID:10000917-1776592800-1776614400@hovercraft-museum.org
SUMMARY:Open Day
DESCRIPTION:
URL:https://hovercraft-museum.org/event/open-day/2026-04-19/
CATEGORIES:Open Day
ATTACH;FMTTYPE=image/png:https://hovercraft-museum.org/wp-content/uploads/2025/07/HOMEPAGE-Testimonials-IMAGE-1.png
END:VEVENT
BEGIN:VEVENT
DTSTART;VALUE=DATE:20260425
DTEND;VALUE=DATE:20260426
DTSTAMP:20260423T111836
CREATED:20260310T110314Z
LAST-MODIFIED:20260310T203049Z
UID:10000884-1777075200-1777161599@hovercraft-museum.org
SUMMARY:Easter at The Hovercraft Museum
DESCRIPTION:Join us for Easter fun at The Hovercraft Museum\, find our Easter characters hidden around the museum or see if you can spot our colourful eggs in and around our Hovercraft Collection.  Great fun for all the family and all ages.
URL:https://hovercraft-museum.org/event/easter-at-the-hovercraft-museum/2026-04-25/
CATEGORIES:Activity
ATTACH;FMTTYPE=image/jpeg:https://hovercraft-museum.org/wp-content/uploads/2026/03/Easter-2-rotated.jpg
END:VEVENT
BEGIN:VEVENT
DTSTART;TZID=UTC:20260425T100000
DTEND;TZID=UTC:20260425T160000
DTSTAMP:20260423T111836
CREATED:20260310T204729Z
LAST-MODIFIED:20260310T204850Z
UID:10000918-1777111200-1777132800@hovercraft-museum.org
SUMMARY:Open Day
DESCRIPTION:
URL:https://hovercraft-museum.org/event/open-day/2026-04-25/
CATEGORIES:Open Day
ATTACH;FMTTYPE=image/png:https://hovercraft-museum.org/wp-content/uploads/2025/07/HOMEPAGE-Testimonials-IMAGE-1.png
END:VEVENT
BEGIN:VEVENT
DTSTART;VALUE=DATE:20260426
DTEND;VALUE=DATE:20260427
DTSTAMP:20260423T111836
CREATED:20260310T110314Z
LAST-MODIFIED:20260310T203049Z
UID:10000885-1777161600-1777247999@hovercraft-museum.org
SUMMARY:Easter at The Hovercraft Museum
DESCRIPTION:Join us for Easter fun at The Hovercraft Museum\, find our Easter characters hidden around the museum or see if you can spot our colourful eggs in and around our Hovercraft Collection.  Great fun for all the family and all ages.
URL:https://hovercraft-museum.org/event/easter-at-the-hovercraft-museum/2026-04-26/
CATEGORIES:Activity
ATTACH;FMTTYPE=image/jpeg:https://hovercraft-museum.org/wp-content/uploads/2026/03/Easter-2-rotated.jpg
END:VEVENT
BEGIN:VEVENT
DTSTART;TZID=UTC:20260426T100000
DTEND;TZID=UTC:20260426T160000
DTSTAMP:20260423T111836
CREATED:20260310T204729Z
LAST-MODIFIED:20260310T204850Z
UID:10000919-1777197600-1777219200@hovercraft-museum.org
SUMMARY:Open Day
DESCRIPTION:
URL:https://hovercraft-museum.org/event/open-day/2026-04-26/
CATEGORIES:Open Day
ATTACH;FMTTYPE=image/png:https://hovercraft-museum.org/wp-content/uploads/2025/07/HOMEPAGE-Testimonials-IMAGE-1.png
END:VEVENT
BEGIN:VEVENT
DTSTART;TZID=UTC:20260502T100000
DTEND;TZID=UTC:20260502T160000
DTSTAMP:20260423T111836
CREATED:20260310T204729Z
LAST-MODIFIED:20260310T204850Z
UID:10000920-1777716000-1777737600@hovercraft-museum.org
SUMMARY:Open Day
DESCRIPTION:
URL:https://hovercraft-museum.org/event/open-day/2026-05-02/
CATEGORIES:Open Day
ATTACH;FMTTYPE=image/png:https://hovercraft-museum.org/wp-content/uploads/2025/07/HOMEPAGE-Testimonials-IMAGE-1.png
END:VEVENT
BEGIN:VEVENT
DTSTART;TZID=UTC:20260503T100000
DTEND;TZID=UTC:20260503T160000
DTSTAMP:20260423T111836
CREATED:20260310T204729Z
LAST-MODIFIED:20260310T204850Z
UID:10000921-1777802400-1777824000@hovercraft-museum.org
SUMMARY:Open Day
DESCRIPTION:
URL:https://hovercraft-museum.org/event/open-day/2026-05-03/
CATEGORIES:Open Day
ATTACH;FMTTYPE=image/png:https://hovercraft-museum.org/wp-content/uploads/2025/07/HOMEPAGE-Testimonials-IMAGE-1.png
END:VEVENT
BEGIN:VEVENT
DTSTART;TZID=UTC:20260509T100000
DTEND;TZID=UTC:20260509T160000
DTSTAMP:20260423T111836
CREATED:20260310T204729Z
LAST-MODIFIED:20260310T204850Z
UID:10000922-1778320800-1778342400@hovercraft-museum.org
SUMMARY:Open Day
DESCRIPTION:
URL:https://hovercraft-museum.org/event/open-day/2026-05-09/
CATEGORIES:Open Day
ATTACH;FMTTYPE=image/png:https://hovercraft-museum.org/wp-content/uploads/2025/07/HOMEPAGE-Testimonials-IMAGE-1.png
END:VEVENT
BEGIN:VEVENT
DTSTART;TZID=UTC:20260510T100000
DTEND;TZID=UTC:20260510T160000
DTSTAMP:20260423T111836
CREATED:20260310T204729Z
LAST-MODIFIED:20260310T204850Z
UID:10000923-1778407200-1778428800@hovercraft-museum.org
SUMMARY:Open Day
DESCRIPTION:
URL:https://hovercraft-museum.org/event/open-day/2026-05-10/
CATEGORIES:Open Day
ATTACH;FMTTYPE=image/png:https://hovercraft-museum.org/wp-content/uploads/2025/07/HOMEPAGE-Testimonials-IMAGE-1.png
END:VEVENT
BEGIN:VEVENT
DTSTART;TZID=UTC:20260516T100000
DTEND;TZID=UTC:20260516T160000
DTSTAMP:20260423T111836
CREATED:20260310T204729Z
LAST-MODIFIED:20260310T204850Z
UID:10000924-1778925600-1778947200@hovercraft-museum.org
SUMMARY:Open Day
DESCRIPTION:
URL:https://hovercraft-museum.org/event/open-day/2026-05-16/
CATEGORIES:Open Day
ATTACH;FMTTYPE=image/png:https://hovercraft-museum.org/wp-content/uploads/2025/07/HOMEPAGE-Testimonials-IMAGE-1.png
END:VEVENT
BEGIN:VEVENT
DTSTART;TZID=UTC:20260517T100000
DTEND;TZID=UTC:20260517T160000
DTSTAMP:20260423T111836
CREATED:20260310T204729Z
LAST-MODIFIED:20260310T204850Z
UID:10000925-1779012000-1779033600@hovercraft-museum.org
SUMMARY:Open Day
DESCRIPTION:
URL:https://hovercraft-museum.org/event/open-day/2026-05-17/
CATEGORIES:Open Day
ATTACH;FMTTYPE=image/png:https://hovercraft-museum.org/wp-content/uploads/2025/07/HOMEPAGE-Testimonials-IMAGE-1.png
END:VEVENT
BEGIN:VEVENT
DTSTART;TZID=UTC:20260523T100000
DTEND;TZID=UTC:20260523T160000
DTSTAMP:20260423T111836
CREATED:20260310T204729Z
LAST-MODIFIED:20260310T204850Z
UID:10000926-1779530400-1779552000@hovercraft-museum.org
SUMMARY:Open Day
DESCRIPTION:
URL:https://hovercraft-museum.org/event/open-day/2026-05-23/
CATEGORIES:Open Day
ATTACH;FMTTYPE=image/png:https://hovercraft-museum.org/wp-content/uploads/2025/07/HOMEPAGE-Testimonials-IMAGE-1.png
END:VEVENT
BEGIN:VEVENT
DTSTART;TZID=UTC:20260524T100000
DTEND;TZID=UTC:20260524T160000
DTSTAMP:20260423T111836
CREATED:20260310T204729Z
LAST-MODIFIED:20260310T204850Z
UID:10000927-1779616800-1779638400@hovercraft-museum.org
SUMMARY:Open Day
DESCRIPTION:
URL:https://hovercraft-museum.org/event/open-day/2026-05-24/
CATEGORIES:Open Day
ATTACH;FMTTYPE=image/png:https://hovercraft-museum.org/wp-content/uploads/2025/07/HOMEPAGE-Testimonials-IMAGE-1.png
END:VEVENT
BEGIN:VEVENT
DTSTART;TZID=UTC:20260530T100000
DTEND;TZID=UTC:20260530T160000
DTSTAMP:20260423T111836
CREATED:20260310T204729Z
LAST-MODIFIED:20260310T204850Z
UID:10000928-1780135200-1780156800@hovercraft-museum.org
SUMMARY:Open Day
DESCRIPTION:
URL:https://hovercraft-museum.org/event/open-day/2026-05-30/
CATEGORIES:Open Day
ATTACH;FMTTYPE=image/png:https://hovercraft-museum.org/wp-content/uploads/2025/07/HOMEPAGE-Testimonials-IMAGE-1.png
END:VEVENT
BEGIN:VEVENT
DTSTART;TZID=UTC:20260531T100000
DTEND;TZID=UTC:20260531T160000
DTSTAMP:20260423T111836
CREATED:20260310T204729Z
LAST-MODIFIED:20260310T204850Z
UID:10000929-1780221600-1780243200@hovercraft-museum.org
SUMMARY:Open Day
DESCRIPTION:
URL:https://hovercraft-museum.org/event/open-day/2026-05-31/
CATEGORIES:Open Day
ATTACH;FMTTYPE=image/png:https://hovercraft-museum.org/wp-content/uploads/2025/07/HOMEPAGE-Testimonials-IMAGE-1.png
END:VEVENT
BEGIN:VEVENT
DTSTART;TZID=UTC:20260606T100000
DTEND;TZID=UTC:20260606T160000
DTSTAMP:20260423T111836
CREATED:20260310T204729Z
LAST-MODIFIED:20260310T204850Z
UID:10000930-1780740000-1780761600@hovercraft-museum.org
SUMMARY:Open Day
DESCRIPTION:
URL:https://hovercraft-museum.org/event/open-day/2026-06-06/
CATEGORIES:Open Day
ATTACH;FMTTYPE=image/png:https://hovercraft-museum.org/wp-content/uploads/2025/07/HOMEPAGE-Testimonials-IMAGE-1.png
END:VEVENT
BEGIN:VEVENT
DTSTART;TZID=UTC:20260607T100000
DTEND;TZID=UTC:20260607T160000
DTSTAMP:20260423T111836
CREATED:20260310T204729Z
LAST-MODIFIED:20260310T204850Z
UID:10000931-1780826400-1780848000@hovercraft-museum.org
SUMMARY:Open Day
DESCRIPTION:
URL:https://hovercraft-museum.org/event/open-day/2026-06-07/
CATEGORIES:Open Day
ATTACH;FMTTYPE=image/png:https://hovercraft-museum.org/wp-content/uploads/2025/07/HOMEPAGE-Testimonials-IMAGE-1.png
END:VEVENT
END:VCALENDAR