BEGIN:VCALENDAR
VERSION:2.0
PRODID:-//Hovercraft Museum - ECPv6.15.16//NONSGML v1.0//EN
CALSCALE:GREGORIAN
METHOD:PUBLISH
X-WR-CALNAME:Hovercraft Museum
X-ORIGINAL-URL:https://hovercraft-museum.org
X-WR-CALDESC:Events for Hovercraft Museum
REFRESH-INTERVAL;VALUE=DURATION:PT1H
X-Robots-Tag:noindex
X-PUBLISHED-TTL:PT1H
BEGIN:VTIMEZONE
TZID:UTC
BEGIN:STANDARD
TZOFFSETFROM:+0000
TZOFFSETTO:+0000
TZNAME:UTC
DTSTART:20250101T000000
END:STANDARD
END:VTIMEZONE
BEGIN:VEVENT
DTSTART;VALUE=DATE:20260425
DTEND;VALUE=DATE:20260426
DTSTAMP:20260421T105958
CREATED:20260310T110314Z
LAST-MODIFIED:20260310T203049Z
UID:10000884-1777075200-1777161599@hovercraft-museum.org
SUMMARY:Easter at The Hovercraft Museum
DESCRIPTION:Join us for Easter fun at The Hovercraft Museum\, find our Easter characters hidden around the museum or see if you can spot our colourful eggs in and around our Hovercraft Collection.  Great fun for all the family and all ages.
URL:https://hovercraft-museum.org/event/easter-at-the-hovercraft-museum/2026-04-25/
CATEGORIES:Activity
ATTACH;FMTTYPE=image/jpeg:https://hovercraft-museum.org/wp-content/uploads/2026/03/Easter-2-rotated.jpg
END:VEVENT
BEGIN:VEVENT
DTSTART;TZID=UTC:20260425T100000
DTEND;TZID=UTC:20260425T160000
DTSTAMP:20260421T105958
CREATED:20260310T204729Z
LAST-MODIFIED:20260310T204850Z
UID:10000918-1777111200-1777132800@hovercraft-museum.org
SUMMARY:Open Day
DESCRIPTION:
URL:https://hovercraft-museum.org/event/open-day/2026-04-25/
CATEGORIES:Open Day
ATTACH;FMTTYPE=image/png:https://hovercraft-museum.org/wp-content/uploads/2025/07/HOMEPAGE-Testimonials-IMAGE-1.png
END:VEVENT
BEGIN:VEVENT
DTSTART;VALUE=DATE:20260426
DTEND;VALUE=DATE:20260427
DTSTAMP:20260421T105958
CREATED:20260310T110314Z
LAST-MODIFIED:20260310T203049Z
UID:10000885-1777161600-1777247999@hovercraft-museum.org
SUMMARY:Easter at The Hovercraft Museum
DESCRIPTION:Join us for Easter fun at The Hovercraft Museum\, find our Easter characters hidden around the museum or see if you can spot our colourful eggs in and around our Hovercraft Collection.  Great fun for all the family and all ages.
URL:https://hovercraft-museum.org/event/easter-at-the-hovercraft-museum/2026-04-26/
CATEGORIES:Activity
ATTACH;FMTTYPE=image/jpeg:https://hovercraft-museum.org/wp-content/uploads/2026/03/Easter-2-rotated.jpg
END:VEVENT
BEGIN:VEVENT
DTSTART;TZID=UTC:20260426T100000
DTEND;TZID=UTC:20260426T160000
DTSTAMP:20260421T105958
CREATED:20260310T204729Z
LAST-MODIFIED:20260310T204850Z
UID:10000919-1777197600-1777219200@hovercraft-museum.org
SUMMARY:Open Day
DESCRIPTION:
URL:https://hovercraft-museum.org/event/open-day/2026-04-26/
CATEGORIES:Open Day
ATTACH;FMTTYPE=image/png:https://hovercraft-museum.org/wp-content/uploads/2025/07/HOMEPAGE-Testimonials-IMAGE-1.png
END:VEVENT
END:VCALENDAR