BEGIN:VCALENDAR
VERSION:2.0
PRODID:-//Hovercraft Museum - ECPv6.15.16//NONSGML v1.0//EN
CALSCALE:GREGORIAN
METHOD:PUBLISH
X-WR-CALNAME:Hovercraft Museum
X-ORIGINAL-URL:https://hovercraft-museum.org
X-WR-CALDESC:Events for Hovercraft Museum
REFRESH-INTERVAL;VALUE=DURATION:PT1H
X-Robots-Tag:noindex
X-PUBLISHED-TTL:PT1H
BEGIN:VTIMEZONE
TZID:UTC
BEGIN:STANDARD
TZOFFSETFROM:+0000
TZOFFSETTO:+0000
TZNAME:UTC
DTSTART:20250101T000000
END:STANDARD
END:VTIMEZONE
BEGIN:VEVENT
DTSTART;VALUE=DATE:20260912
DTEND;VALUE=DATE:20260913
DTSTAMP:20260422T000748
CREATED:20260310T210130Z
LAST-MODIFIED:20260310T210130Z
UID:10000994-1789171200-1789257599@hovercraft-museum.org
SUMMARY:Little Hover World
DESCRIPTION:Little Hover World returns to The Hovercraft Museum for another summer of fun\, spot the little figures working\, hiding and playing around the museum.  So much to see and enjoy\, great fun for all the family and all ages.   
URL:https://hovercraft-museum.org/event/little-hover-world-2/2026-09-12/
CATEGORIES:Activity
ATTACH;FMTTYPE=image/jpeg:https://hovercraft-museum.org/wp-content/uploads/2026/03/Little-Hover-World.jpg
END:VEVENT
BEGIN:VEVENT
DTSTART;TZID=UTC:20260912T100000
DTEND;TZID=UTC:20260912T160000
DTSTAMP:20260422T000748
CREATED:20260310T204729Z
LAST-MODIFIED:20260310T204850Z
UID:10000958-1789207200-1789228800@hovercraft-museum.org
SUMMARY:Open Day
DESCRIPTION:
URL:https://hovercraft-museum.org/event/open-day/2026-09-12/
CATEGORIES:Open Day
ATTACH;FMTTYPE=image/png:https://hovercraft-museum.org/wp-content/uploads/2025/07/HOMEPAGE-Testimonials-IMAGE-1.png
END:VEVENT
BEGIN:VEVENT
DTSTART;VALUE=DATE:20260913
DTEND;VALUE=DATE:20260914
DTSTAMP:20260422T000748
CREATED:20260310T210130Z
LAST-MODIFIED:20260310T210130Z
UID:10000995-1789257600-1789343999@hovercraft-museum.org
SUMMARY:Little Hover World
DESCRIPTION:Little Hover World returns to The Hovercraft Museum for another summer of fun\, spot the little figures working\, hiding and playing around the museum.  So much to see and enjoy\, great fun for all the family and all ages.   
URL:https://hovercraft-museum.org/event/little-hover-world-2/2026-09-13/
CATEGORIES:Activity
ATTACH;FMTTYPE=image/jpeg:https://hovercraft-museum.org/wp-content/uploads/2026/03/Little-Hover-World.jpg
END:VEVENT
BEGIN:VEVENT
DTSTART;TZID=UTC:20260913T100000
DTEND;TZID=UTC:20260913T160000
DTSTAMP:20260422T000748
CREATED:20260310T204729Z
LAST-MODIFIED:20260310T204850Z
UID:10000959-1789293600-1789315200@hovercraft-museum.org
SUMMARY:Open Day
DESCRIPTION:
URL:https://hovercraft-museum.org/event/open-day/2026-09-13/
CATEGORIES:Open Day
ATTACH;FMTTYPE=image/png:https://hovercraft-museum.org/wp-content/uploads/2025/07/HOMEPAGE-Testimonials-IMAGE-1.png
END:VEVENT
BEGIN:VEVENT
DTSTART;VALUE=DATE:20260919
DTEND;VALUE=DATE:20260920
DTSTAMP:20260422T000748
CREATED:20260310T210130Z
LAST-MODIFIED:20260310T210130Z
UID:10000996-1789776000-1789862399@hovercraft-museum.org
SUMMARY:Little Hover World
DESCRIPTION:Little Hover World returns to The Hovercraft Museum for another summer of fun\, spot the little figures working\, hiding and playing around the museum.  So much to see and enjoy\, great fun for all the family and all ages.   
URL:https://hovercraft-museum.org/event/little-hover-world-2/2026-09-19/
CATEGORIES:Activity
ATTACH;FMTTYPE=image/jpeg:https://hovercraft-museum.org/wp-content/uploads/2026/03/Little-Hover-World.jpg
END:VEVENT
BEGIN:VEVENT
DTSTART;TZID=UTC:20260919T100000
DTEND;TZID=UTC:20260919T160000
DTSTAMP:20260422T000748
CREATED:20260310T204729Z
LAST-MODIFIED:20260310T204850Z
UID:10000960-1789812000-1789833600@hovercraft-museum.org
SUMMARY:Open Day
DESCRIPTION:
URL:https://hovercraft-museum.org/event/open-day/2026-09-19/
CATEGORIES:Open Day
ATTACH;FMTTYPE=image/png:https://hovercraft-museum.org/wp-content/uploads/2025/07/HOMEPAGE-Testimonials-IMAGE-1.png
END:VEVENT
BEGIN:VEVENT
DTSTART;VALUE=DATE:20260920
DTEND;VALUE=DATE:20260921
DTSTAMP:20260422T000748
CREATED:20260310T210130Z
LAST-MODIFIED:20260310T210130Z
UID:10000997-1789862400-1789948799@hovercraft-museum.org
SUMMARY:Little Hover World
DESCRIPTION:Little Hover World returns to The Hovercraft Museum for another summer of fun\, spot the little figures working\, hiding and playing around the museum.  So much to see and enjoy\, great fun for all the family and all ages.   
URL:https://hovercraft-museum.org/event/little-hover-world-2/2026-09-20/
CATEGORIES:Activity
ATTACH;FMTTYPE=image/jpeg:https://hovercraft-museum.org/wp-content/uploads/2026/03/Little-Hover-World.jpg
END:VEVENT
BEGIN:VEVENT
DTSTART;TZID=UTC:20260920T100000
DTEND;TZID=UTC:20260920T160000
DTSTAMP:20260422T000748
CREATED:20260310T204729Z
LAST-MODIFIED:20260310T204850Z
UID:10000961-1789898400-1789920000@hovercraft-museum.org
SUMMARY:Open Day
DESCRIPTION:
URL:https://hovercraft-museum.org/event/open-day/2026-09-20/
CATEGORIES:Open Day
ATTACH;FMTTYPE=image/png:https://hovercraft-museum.org/wp-content/uploads/2025/07/HOMEPAGE-Testimonials-IMAGE-1.png
END:VEVENT
BEGIN:VEVENT
DTSTART;VALUE=DATE:20260926
DTEND;VALUE=DATE:20260927
DTSTAMP:20260422T000748
CREATED:20260310T210130Z
LAST-MODIFIED:20260310T210130Z
UID:10000998-1790380800-1790467199@hovercraft-museum.org
SUMMARY:Little Hover World
DESCRIPTION:Little Hover World returns to The Hovercraft Museum for another summer of fun\, spot the little figures working\, hiding and playing around the museum.  So much to see and enjoy\, great fun for all the family and all ages.   
URL:https://hovercraft-museum.org/event/little-hover-world-2/2026-09-26/
CATEGORIES:Activity
ATTACH;FMTTYPE=image/jpeg:https://hovercraft-museum.org/wp-content/uploads/2026/03/Little-Hover-World.jpg
END:VEVENT
BEGIN:VEVENT
DTSTART;TZID=UTC:20260926T100000
DTEND;TZID=UTC:20260926T160000
DTSTAMP:20260422T000748
CREATED:20260310T204729Z
LAST-MODIFIED:20260310T204850Z
UID:10000962-1790416800-1790438400@hovercraft-museum.org
SUMMARY:Open Day
DESCRIPTION:
URL:https://hovercraft-museum.org/event/open-day/2026-09-26/
CATEGORIES:Open Day
ATTACH;FMTTYPE=image/png:https://hovercraft-museum.org/wp-content/uploads/2025/07/HOMEPAGE-Testimonials-IMAGE-1.png
END:VEVENT
BEGIN:VEVENT
DTSTART;VALUE=DATE:20260927
DTEND;VALUE=DATE:20260928
DTSTAMP:20260422T000748
CREATED:20260310T210130Z
LAST-MODIFIED:20260310T210130Z
UID:10000999-1790467200-1790553599@hovercraft-museum.org
SUMMARY:Little Hover World
DESCRIPTION:Little Hover World returns to The Hovercraft Museum for another summer of fun\, spot the little figures working\, hiding and playing around the museum.  So much to see and enjoy\, great fun for all the family and all ages.   
URL:https://hovercraft-museum.org/event/little-hover-world-2/2026-09-27/
CATEGORIES:Activity
ATTACH;FMTTYPE=image/jpeg:https://hovercraft-museum.org/wp-content/uploads/2026/03/Little-Hover-World.jpg
END:VEVENT
BEGIN:VEVENT
DTSTART;TZID=UTC:20260927T100000
DTEND;TZID=UTC:20260927T160000
DTSTAMP:20260422T000748
CREATED:20260310T204729Z
LAST-MODIFIED:20260310T204850Z
UID:10000963-1790503200-1790524800@hovercraft-museum.org
SUMMARY:Open Day
DESCRIPTION:
URL:https://hovercraft-museum.org/event/open-day/2026-09-27/
CATEGORIES:Open Day
ATTACH;FMTTYPE=image/png:https://hovercraft-museum.org/wp-content/uploads/2025/07/HOMEPAGE-Testimonials-IMAGE-1.png
END:VEVENT
BEGIN:VEVENT
DTSTART;TZID=UTC:20261003T100000
DTEND;TZID=UTC:20261003T160000
DTSTAMP:20260422T000748
CREATED:20260310T204729Z
LAST-MODIFIED:20260310T204850Z
UID:10000964-1791021600-1791043200@hovercraft-museum.org
SUMMARY:Open Day
DESCRIPTION:
URL:https://hovercraft-museum.org/event/open-day/2026-10-03/
CATEGORIES:Open Day
ATTACH;FMTTYPE=image/png:https://hovercraft-museum.org/wp-content/uploads/2025/07/HOMEPAGE-Testimonials-IMAGE-1.png
END:VEVENT
BEGIN:VEVENT
DTSTART;TZID=UTC:20261004T100000
DTEND;TZID=UTC:20261004T160000
DTSTAMP:20260422T000748
CREATED:20260310T204729Z
LAST-MODIFIED:20260310T204850Z
UID:10000965-1791108000-1791129600@hovercraft-museum.org
SUMMARY:Open Day
DESCRIPTION:
URL:https://hovercraft-museum.org/event/open-day/2026-10-04/
CATEGORIES:Open Day
ATTACH;FMTTYPE=image/png:https://hovercraft-museum.org/wp-content/uploads/2025/07/HOMEPAGE-Testimonials-IMAGE-1.png
END:VEVENT
BEGIN:VEVENT
DTSTART;TZID=UTC:20261010T100000
DTEND;TZID=UTC:20261010T160000
DTSTAMP:20260422T000748
CREATED:20260310T204729Z
LAST-MODIFIED:20260310T204850Z
UID:10000966-1791626400-1791648000@hovercraft-museum.org
SUMMARY:Open Day
DESCRIPTION:
URL:https://hovercraft-museum.org/event/open-day/2026-10-10/
CATEGORIES:Open Day
ATTACH;FMTTYPE=image/png:https://hovercraft-museum.org/wp-content/uploads/2025/07/HOMEPAGE-Testimonials-IMAGE-1.png
END:VEVENT
BEGIN:VEVENT
DTSTART;TZID=UTC:20261011T100000
DTEND;TZID=UTC:20261011T160000
DTSTAMP:20260422T000748
CREATED:20260310T204729Z
LAST-MODIFIED:20260310T204850Z
UID:10000967-1791712800-1791734400@hovercraft-museum.org
SUMMARY:Open Day
DESCRIPTION:
URL:https://hovercraft-museum.org/event/open-day/2026-10-11/
CATEGORIES:Open Day
ATTACH;FMTTYPE=image/png:https://hovercraft-museum.org/wp-content/uploads/2025/07/HOMEPAGE-Testimonials-IMAGE-1.png
END:VEVENT
BEGIN:VEVENT
DTSTART;TZID=UTC:20261017T100000
DTEND;TZID=UTC:20261017T160000
DTSTAMP:20260422T000748
CREATED:20260310T204729Z
LAST-MODIFIED:20260310T204850Z
UID:10000968-1792231200-1792252800@hovercraft-museum.org
SUMMARY:Open Day
DESCRIPTION:
URL:https://hovercraft-museum.org/event/open-day/2026-10-17/
CATEGORIES:Open Day
ATTACH;FMTTYPE=image/png:https://hovercraft-museum.org/wp-content/uploads/2025/07/HOMEPAGE-Testimonials-IMAGE-1.png
END:VEVENT
BEGIN:VEVENT
DTSTART;TZID=UTC:20261018T100000
DTEND;TZID=UTC:20261018T160000
DTSTAMP:20260422T000748
CREATED:20260310T204729Z
LAST-MODIFIED:20260310T204850Z
UID:10000969-1792317600-1792339200@hovercraft-museum.org
SUMMARY:Open Day
DESCRIPTION:
URL:https://hovercraft-museum.org/event/open-day/2026-10-18/
CATEGORIES:Open Day
ATTACH;FMTTYPE=image/png:https://hovercraft-museum.org/wp-content/uploads/2025/07/HOMEPAGE-Testimonials-IMAGE-1.png
END:VEVENT
BEGIN:VEVENT
DTSTART;TZID=UTC:20261024T100000
DTEND;TZID=UTC:20261024T160000
DTSTAMP:20260422T000748
CREATED:20260310T204729Z
LAST-MODIFIED:20260310T204850Z
UID:10000970-1792836000-1792857600@hovercraft-museum.org
SUMMARY:Open Day
DESCRIPTION:
URL:https://hovercraft-museum.org/event/open-day/2026-10-24/
CATEGORIES:Open Day
ATTACH;FMTTYPE=image/png:https://hovercraft-museum.org/wp-content/uploads/2025/07/HOMEPAGE-Testimonials-IMAGE-1.png
END:VEVENT
BEGIN:VEVENT
DTSTART;TZID=UTC:20261025T100000
DTEND;TZID=UTC:20261025T160000
DTSTAMP:20260422T000748
CREATED:20260310T204729Z
LAST-MODIFIED:20260310T204850Z
UID:10000971-1792922400-1792944000@hovercraft-museum.org
SUMMARY:Open Day
DESCRIPTION:
URL:https://hovercraft-museum.org/event/open-day/2026-10-25/
CATEGORIES:Open Day
ATTACH;FMTTYPE=image/png:https://hovercraft-museum.org/wp-content/uploads/2025/07/HOMEPAGE-Testimonials-IMAGE-1.png
END:VEVENT
BEGIN:VEVENT
DTSTART;TZID=UTC:20261120T200000
DTEND;TZID=UTC:20261121T010000
DTSTAMP:20260422T000748
CREATED:20260316T221259Z
LAST-MODIFIED:20260316T221259Z
UID:10001000-1795204800-1795222800@hovercraft-museum.org
SUMMARY:Paranormal Investigation
DESCRIPTION:Join us together with Spirit Chasers Paranormal UK as we embark on a paranormal investigation at The Hovercraft Museum in Lee-on-the-Solent.  Based on a former military site\, HMS Daedalus\, there have been many reports of activity from the years of military operation dating back to WW1.  Ranging from strange voices and noises to feeling cold and nauseous after an encounter.  You’ll have the opportunity to board at least three hovercraft and experience our WW1 era hangars. \n£28 per person
URL:https://hovercraft-museum.org/event/paranormal-investigation/
CATEGORIES:Ticketed Event
ATTACH;FMTTYPE=image/png:https://hovercraft-museum.org/wp-content/uploads/2025/09/Untitled-design-2.png
END:VEVENT
END:VCALENDAR