BEGIN:VCALENDAR
VERSION:2.0
PRODID:-//Hovercraft Museum - ECPv6.15.16//NONSGML v1.0//EN
CALSCALE:GREGORIAN
METHOD:PUBLISH
X-ORIGINAL-URL:https://hovercraft-museum.org
X-WR-CALDESC:Events for Hovercraft Museum
REFRESH-INTERVAL;VALUE=DURATION:PT1H
X-Robots-Tag:noindex
X-PUBLISHED-TTL:PT1H
BEGIN:VTIMEZONE
TZID:UTC
BEGIN:STANDARD
TZOFFSETFROM:+0000
TZOFFSETTO:+0000
TZNAME:UTC
DTSTART:20250101T000000
END:STANDARD
END:VTIMEZONE
BEGIN:VEVENT
DTSTART;VALUE=DATE:20260704
DTEND;VALUE=DATE:20260705
DTSTAMP:20260421T111145
CREATED:20260310T210130Z
LAST-MODIFIED:20260310T210130Z
UID:10000974-1783123200-1783209599@hovercraft-museum.org
SUMMARY:Little Hover World
DESCRIPTION:Little Hover World returns to The Hovercraft Museum for another summer of fun\, spot the little figures working\, hiding and playing around the museum.  So much to see and enjoy\, great fun for all the family and all ages.   
URL:https://hovercraft-museum.org/event/little-hover-world-2/2026-07-04/
CATEGORIES:Activity
ATTACH;FMTTYPE=image/jpeg:https://hovercraft-museum.org/wp-content/uploads/2026/03/Little-Hover-World.jpg
END:VEVENT
BEGIN:VEVENT
DTSTART;TZID=UTC:20260704T100000
DTEND;TZID=UTC:20260704T160000
DTSTAMP:20260421T111145
CREATED:20260310T204729Z
LAST-MODIFIED:20260310T204850Z
UID:10000938-1783159200-1783180800@hovercraft-museum.org
SUMMARY:Open Day
DESCRIPTION:
URL:https://hovercraft-museum.org/event/open-day/2026-07-04/
CATEGORIES:Open Day
ATTACH;FMTTYPE=image/png:https://hovercraft-museum.org/wp-content/uploads/2025/07/HOMEPAGE-Testimonials-IMAGE-1.png
END:VEVENT
BEGIN:VEVENT
DTSTART;VALUE=DATE:20260705
DTEND;VALUE=DATE:20260706
DTSTAMP:20260421T111145
CREATED:20260310T210130Z
LAST-MODIFIED:20260310T210130Z
UID:10000975-1783209600-1783295999@hovercraft-museum.org
SUMMARY:Little Hover World
DESCRIPTION:Little Hover World returns to The Hovercraft Museum for another summer of fun\, spot the little figures working\, hiding and playing around the museum.  So much to see and enjoy\, great fun for all the family and all ages.   
URL:https://hovercraft-museum.org/event/little-hover-world-2/2026-07-05/
CATEGORIES:Activity
ATTACH;FMTTYPE=image/jpeg:https://hovercraft-museum.org/wp-content/uploads/2026/03/Little-Hover-World.jpg
END:VEVENT
BEGIN:VEVENT
DTSTART;TZID=UTC:20260705T100000
DTEND;TZID=UTC:20260705T160000
DTSTAMP:20260421T111145
CREATED:20260310T204729Z
LAST-MODIFIED:20260310T204850Z
UID:10000939-1783245600-1783267200@hovercraft-museum.org
SUMMARY:Open Day
DESCRIPTION:
URL:https://hovercraft-museum.org/event/open-day/2026-07-05/
CATEGORIES:Open Day
ATTACH;FMTTYPE=image/png:https://hovercraft-museum.org/wp-content/uploads/2025/07/HOMEPAGE-Testimonials-IMAGE-1.png
END:VEVENT
BEGIN:VEVENT
DTSTART;VALUE=DATE:20260711
DTEND;VALUE=DATE:20260712
DTSTAMP:20260421T111145
CREATED:20260310T210130Z
LAST-MODIFIED:20260310T210130Z
UID:10000976-1783728000-1783814399@hovercraft-museum.org
SUMMARY:Little Hover World
DESCRIPTION:Little Hover World returns to The Hovercraft Museum for another summer of fun\, spot the little figures working\, hiding and playing around the museum.  So much to see and enjoy\, great fun for all the family and all ages.   
URL:https://hovercraft-museum.org/event/little-hover-world-2/2026-07-11/
CATEGORIES:Activity
ATTACH;FMTTYPE=image/jpeg:https://hovercraft-museum.org/wp-content/uploads/2026/03/Little-Hover-World.jpg
END:VEVENT
BEGIN:VEVENT
DTSTART;TZID=UTC:20260711T100000
DTEND;TZID=UTC:20260711T160000
DTSTAMP:20260421T111145
CREATED:20260310T204729Z
LAST-MODIFIED:20260310T204850Z
UID:10000940-1783764000-1783785600@hovercraft-museum.org
SUMMARY:Open Day
DESCRIPTION:
URL:https://hovercraft-museum.org/event/open-day/2026-07-11/
CATEGORIES:Open Day
ATTACH;FMTTYPE=image/png:https://hovercraft-museum.org/wp-content/uploads/2025/07/HOMEPAGE-Testimonials-IMAGE-1.png
END:VEVENT
BEGIN:VEVENT
DTSTART;VALUE=DATE:20260712
DTEND;VALUE=DATE:20260713
DTSTAMP:20260421T111145
CREATED:20260310T210130Z
LAST-MODIFIED:20260310T210130Z
UID:10000977-1783814400-1783900799@hovercraft-museum.org
SUMMARY:Little Hover World
DESCRIPTION:Little Hover World returns to The Hovercraft Museum for another summer of fun\, spot the little figures working\, hiding and playing around the museum.  So much to see and enjoy\, great fun for all the family and all ages.   
URL:https://hovercraft-museum.org/event/little-hover-world-2/2026-07-12/
CATEGORIES:Activity
ATTACH;FMTTYPE=image/jpeg:https://hovercraft-museum.org/wp-content/uploads/2026/03/Little-Hover-World.jpg
END:VEVENT
BEGIN:VEVENT
DTSTART;TZID=UTC:20260712T100000
DTEND;TZID=UTC:20260712T160000
DTSTAMP:20260421T111145
CREATED:20260310T204729Z
LAST-MODIFIED:20260310T204850Z
UID:10000941-1783850400-1783872000@hovercraft-museum.org
SUMMARY:Open Day
DESCRIPTION:
URL:https://hovercraft-museum.org/event/open-day/2026-07-12/
CATEGORIES:Open Day
ATTACH;FMTTYPE=image/png:https://hovercraft-museum.org/wp-content/uploads/2025/07/HOMEPAGE-Testimonials-IMAGE-1.png
END:VEVENT
BEGIN:VEVENT
DTSTART;VALUE=DATE:20260718
DTEND;VALUE=DATE:20260719
DTSTAMP:20260421T111145
CREATED:20260310T210130Z
LAST-MODIFIED:20260310T210130Z
UID:10000978-1784332800-1784419199@hovercraft-museum.org
SUMMARY:Little Hover World
DESCRIPTION:Little Hover World returns to The Hovercraft Museum for another summer of fun\, spot the little figures working\, hiding and playing around the museum.  So much to see and enjoy\, great fun for all the family and all ages.   
URL:https://hovercraft-museum.org/event/little-hover-world-2/2026-07-18/
CATEGORIES:Activity
ATTACH;FMTTYPE=image/jpeg:https://hovercraft-museum.org/wp-content/uploads/2026/03/Little-Hover-World.jpg
END:VEVENT
BEGIN:VEVENT
DTSTART;TZID=UTC:20260718T100000
DTEND;TZID=UTC:20260718T160000
DTSTAMP:20260421T111145
CREATED:20260310T204729Z
LAST-MODIFIED:20260310T204850Z
UID:10000942-1784368800-1784390400@hovercraft-museum.org
SUMMARY:Open Day
DESCRIPTION:
URL:https://hovercraft-museum.org/event/open-day/2026-07-18/
CATEGORIES:Open Day
ATTACH;FMTTYPE=image/png:https://hovercraft-museum.org/wp-content/uploads/2025/07/HOMEPAGE-Testimonials-IMAGE-1.png
END:VEVENT
BEGIN:VEVENT
DTSTART;VALUE=DATE:20260719
DTEND;VALUE=DATE:20260720
DTSTAMP:20260421T111145
CREATED:20260310T210130Z
LAST-MODIFIED:20260310T210130Z
UID:10000979-1784419200-1784505599@hovercraft-museum.org
SUMMARY:Little Hover World
DESCRIPTION:Little Hover World returns to The Hovercraft Museum for another summer of fun\, spot the little figures working\, hiding and playing around the museum.  So much to see and enjoy\, great fun for all the family and all ages.   
URL:https://hovercraft-museum.org/event/little-hover-world-2/2026-07-19/
CATEGORIES:Activity
ATTACH;FMTTYPE=image/jpeg:https://hovercraft-museum.org/wp-content/uploads/2026/03/Little-Hover-World.jpg
END:VEVENT
BEGIN:VEVENT
DTSTART;TZID=UTC:20260719T100000
DTEND;TZID=UTC:20260719T160000
DTSTAMP:20260421T111145
CREATED:20260310T204729Z
LAST-MODIFIED:20260310T204850Z
UID:10000943-1784455200-1784476800@hovercraft-museum.org
SUMMARY:Open Day
DESCRIPTION:
URL:https://hovercraft-museum.org/event/open-day/2026-07-19/
CATEGORIES:Open Day
ATTACH;FMTTYPE=image/png:https://hovercraft-museum.org/wp-content/uploads/2025/07/HOMEPAGE-Testimonials-IMAGE-1.png
END:VEVENT
BEGIN:VEVENT
DTSTART;VALUE=DATE:20260725
DTEND;VALUE=DATE:20260726
DTSTAMP:20260421T111145
CREATED:20260310T210130Z
LAST-MODIFIED:20260310T210130Z
UID:10000980-1784937600-1785023999@hovercraft-museum.org
SUMMARY:Little Hover World
DESCRIPTION:Little Hover World returns to The Hovercraft Museum for another summer of fun\, spot the little figures working\, hiding and playing around the museum.  So much to see and enjoy\, great fun for all the family and all ages.   
URL:https://hovercraft-museum.org/event/little-hover-world-2/2026-07-25/
CATEGORIES:Activity
ATTACH;FMTTYPE=image/jpeg:https://hovercraft-museum.org/wp-content/uploads/2026/03/Little-Hover-World.jpg
END:VEVENT
BEGIN:VEVENT
DTSTART;TZID=UTC:20260725T100000
DTEND;TZID=UTC:20260725T160000
DTSTAMP:20260421T111145
CREATED:20260310T204729Z
LAST-MODIFIED:20260310T204850Z
UID:10000944-1784973600-1784995200@hovercraft-museum.org
SUMMARY:Open Day
DESCRIPTION:
URL:https://hovercraft-museum.org/event/open-day/2026-07-25/
CATEGORIES:Open Day
ATTACH;FMTTYPE=image/png:https://hovercraft-museum.org/wp-content/uploads/2025/07/HOMEPAGE-Testimonials-IMAGE-1.png
END:VEVENT
BEGIN:VEVENT
DTSTART;VALUE=DATE:20260726
DTEND;VALUE=DATE:20260727
DTSTAMP:20260421T111145
CREATED:20260310T210130Z
LAST-MODIFIED:20260310T210130Z
UID:10000981-1785024000-1785110399@hovercraft-museum.org
SUMMARY:Little Hover World
DESCRIPTION:Little Hover World returns to The Hovercraft Museum for another summer of fun\, spot the little figures working\, hiding and playing around the museum.  So much to see and enjoy\, great fun for all the family and all ages.   
URL:https://hovercraft-museum.org/event/little-hover-world-2/2026-07-26/
CATEGORIES:Activity
ATTACH;FMTTYPE=image/jpeg:https://hovercraft-museum.org/wp-content/uploads/2026/03/Little-Hover-World.jpg
END:VEVENT
BEGIN:VEVENT
DTSTART;TZID=UTC:20260726T100000
DTEND;TZID=UTC:20260726T160000
DTSTAMP:20260421T111145
CREATED:20260310T204729Z
LAST-MODIFIED:20260310T204850Z
UID:10000945-1785060000-1785081600@hovercraft-museum.org
SUMMARY:Open Day
DESCRIPTION:
URL:https://hovercraft-museum.org/event/open-day/2026-07-26/
CATEGORIES:Open Day
ATTACH;FMTTYPE=image/png:https://hovercraft-museum.org/wp-content/uploads/2025/07/HOMEPAGE-Testimonials-IMAGE-1.png
END:VEVENT
BEGIN:VEVENT
DTSTART;VALUE=DATE:20260801
DTEND;VALUE=DATE:20260802
DTSTAMP:20260421T111145
CREATED:20260310T210130Z
LAST-MODIFIED:20260310T210130Z
UID:10000982-1785542400-1785628799@hovercraft-museum.org
SUMMARY:Little Hover World
DESCRIPTION:Little Hover World returns to The Hovercraft Museum for another summer of fun\, spot the little figures working\, hiding and playing around the museum.  So much to see and enjoy\, great fun for all the family and all ages.   
URL:https://hovercraft-museum.org/event/little-hover-world-2/2026-08-01/
CATEGORIES:Activity
ATTACH;FMTTYPE=image/jpeg:https://hovercraft-museum.org/wp-content/uploads/2026/03/Little-Hover-World.jpg
END:VEVENT
BEGIN:VEVENT
DTSTART;TZID=UTC:20260801T100000
DTEND;TZID=UTC:20260801T160000
DTSTAMP:20260421T111145
CREATED:20260310T204729Z
LAST-MODIFIED:20260310T204850Z
UID:10000946-1785578400-1785600000@hovercraft-museum.org
SUMMARY:Open Day
DESCRIPTION:
URL:https://hovercraft-museum.org/event/open-day/2026-08-01/
CATEGORIES:Open Day
ATTACH;FMTTYPE=image/png:https://hovercraft-museum.org/wp-content/uploads/2025/07/HOMEPAGE-Testimonials-IMAGE-1.png
END:VEVENT
BEGIN:VEVENT
DTSTART;VALUE=DATE:20260802
DTEND;VALUE=DATE:20260803
DTSTAMP:20260421T111145
CREATED:20260310T210130Z
LAST-MODIFIED:20260310T210130Z
UID:10000983-1785628800-1785715199@hovercraft-museum.org
SUMMARY:Little Hover World
DESCRIPTION:Little Hover World returns to The Hovercraft Museum for another summer of fun\, spot the little figures working\, hiding and playing around the museum.  So much to see and enjoy\, great fun for all the family and all ages.   
URL:https://hovercraft-museum.org/event/little-hover-world-2/2026-08-02/
CATEGORIES:Activity
ATTACH;FMTTYPE=image/jpeg:https://hovercraft-museum.org/wp-content/uploads/2026/03/Little-Hover-World.jpg
END:VEVENT
BEGIN:VEVENT
DTSTART;TZID=UTC:20260802T100000
DTEND;TZID=UTC:20260802T160000
DTSTAMP:20260421T111145
CREATED:20260310T204729Z
LAST-MODIFIED:20260310T204850Z
UID:10000947-1785664800-1785686400@hovercraft-museum.org
SUMMARY:Open Day
DESCRIPTION:
URL:https://hovercraft-museum.org/event/open-day/2026-08-02/
CATEGORIES:Open Day
ATTACH;FMTTYPE=image/png:https://hovercraft-museum.org/wp-content/uploads/2025/07/HOMEPAGE-Testimonials-IMAGE-1.png
END:VEVENT
BEGIN:VEVENT
DTSTART;VALUE=DATE:20260808
DTEND;VALUE=DATE:20260809
DTSTAMP:20260421T111145
CREATED:20260310T210130Z
LAST-MODIFIED:20260310T210130Z
UID:10000984-1786147200-1786233599@hovercraft-museum.org
SUMMARY:Little Hover World
DESCRIPTION:Little Hover World returns to The Hovercraft Museum for another summer of fun\, spot the little figures working\, hiding and playing around the museum.  So much to see and enjoy\, great fun for all the family and all ages.   
URL:https://hovercraft-museum.org/event/little-hover-world-2/2026-08-08/
CATEGORIES:Activity
ATTACH;FMTTYPE=image/jpeg:https://hovercraft-museum.org/wp-content/uploads/2026/03/Little-Hover-World.jpg
END:VEVENT
BEGIN:VEVENT
DTSTART;TZID=UTC:20260808T100000
DTEND;TZID=UTC:20260808T160000
DTSTAMP:20260421T111145
CREATED:20260310T204729Z
LAST-MODIFIED:20260310T204850Z
UID:10000948-1786183200-1786204800@hovercraft-museum.org
SUMMARY:Open Day
DESCRIPTION:
URL:https://hovercraft-museum.org/event/open-day/2026-08-08/
CATEGORIES:Open Day
ATTACH;FMTTYPE=image/png:https://hovercraft-museum.org/wp-content/uploads/2025/07/HOMEPAGE-Testimonials-IMAGE-1.png
END:VEVENT
BEGIN:VEVENT
DTSTART;VALUE=DATE:20260809
DTEND;VALUE=DATE:20260810
DTSTAMP:20260421T111145
CREATED:20260310T210130Z
LAST-MODIFIED:20260310T210130Z
UID:10000985-1786233600-1786319999@hovercraft-museum.org
SUMMARY:Little Hover World
DESCRIPTION:Little Hover World returns to The Hovercraft Museum for another summer of fun\, spot the little figures working\, hiding and playing around the museum.  So much to see and enjoy\, great fun for all the family and all ages.   
URL:https://hovercraft-museum.org/event/little-hover-world-2/2026-08-09/
CATEGORIES:Activity
ATTACH;FMTTYPE=image/jpeg:https://hovercraft-museum.org/wp-content/uploads/2026/03/Little-Hover-World.jpg
END:VEVENT
BEGIN:VEVENT
DTSTART;TZID=UTC:20260809T100000
DTEND;TZID=UTC:20260809T160000
DTSTAMP:20260421T111145
CREATED:20260310T204729Z
LAST-MODIFIED:20260310T204850Z
UID:10000949-1786269600-1786291200@hovercraft-museum.org
SUMMARY:Open Day
DESCRIPTION:
URL:https://hovercraft-museum.org/event/open-day/2026-08-09/
CATEGORIES:Open Day
ATTACH;FMTTYPE=image/png:https://hovercraft-museum.org/wp-content/uploads/2025/07/HOMEPAGE-Testimonials-IMAGE-1.png
END:VEVENT
BEGIN:VEVENT
DTSTART;VALUE=DATE:20260815
DTEND;VALUE=DATE:20260816
DTSTAMP:20260421T111145
CREATED:20260310T210130Z
LAST-MODIFIED:20260310T210130Z
UID:10000986-1786752000-1786838399@hovercraft-museum.org
SUMMARY:Little Hover World
DESCRIPTION:Little Hover World returns to The Hovercraft Museum for another summer of fun\, spot the little figures working\, hiding and playing around the museum.  So much to see and enjoy\, great fun for all the family and all ages.   
URL:https://hovercraft-museum.org/event/little-hover-world-2/2026-08-15/
CATEGORIES:Activity
ATTACH;FMTTYPE=image/jpeg:https://hovercraft-museum.org/wp-content/uploads/2026/03/Little-Hover-World.jpg
END:VEVENT
BEGIN:VEVENT
DTSTART;TZID=UTC:20260815T100000
DTEND;TZID=UTC:20260815T160000
DTSTAMP:20260421T111145
CREATED:20260310T204729Z
LAST-MODIFIED:20260310T204850Z
UID:10000950-1786788000-1786809600@hovercraft-museum.org
SUMMARY:Open Day
DESCRIPTION:
URL:https://hovercraft-museum.org/event/open-day/2026-08-15/
CATEGORIES:Open Day
ATTACH;FMTTYPE=image/png:https://hovercraft-museum.org/wp-content/uploads/2025/07/HOMEPAGE-Testimonials-IMAGE-1.png
END:VEVENT
BEGIN:VEVENT
DTSTART;VALUE=DATE:20260816
DTEND;VALUE=DATE:20260817
DTSTAMP:20260421T111145
CREATED:20260310T210130Z
LAST-MODIFIED:20260310T210130Z
UID:10000987-1786838400-1786924799@hovercraft-museum.org
SUMMARY:Little Hover World
DESCRIPTION:Little Hover World returns to The Hovercraft Museum for another summer of fun\, spot the little figures working\, hiding and playing around the museum.  So much to see and enjoy\, great fun for all the family and all ages.   
URL:https://hovercraft-museum.org/event/little-hover-world-2/2026-08-16/
CATEGORIES:Activity
ATTACH;FMTTYPE=image/jpeg:https://hovercraft-museum.org/wp-content/uploads/2026/03/Little-Hover-World.jpg
END:VEVENT
BEGIN:VEVENT
DTSTART;TZID=UTC:20260816T100000
DTEND;TZID=UTC:20260816T160000
DTSTAMP:20260421T111145
CREATED:20260310T204729Z
LAST-MODIFIED:20260310T204850Z
UID:10000951-1786874400-1786896000@hovercraft-museum.org
SUMMARY:Open Day
DESCRIPTION:
URL:https://hovercraft-museum.org/event/open-day/2026-08-16/
CATEGORIES:Open Day
ATTACH;FMTTYPE=image/png:https://hovercraft-museum.org/wp-content/uploads/2025/07/HOMEPAGE-Testimonials-IMAGE-1.png
END:VEVENT
BEGIN:VEVENT
DTSTART;VALUE=DATE:20260822
DTEND;VALUE=DATE:20260823
DTSTAMP:20260421T111145
CREATED:20260310T210130Z
LAST-MODIFIED:20260310T210130Z
UID:10000988-1787356800-1787443199@hovercraft-museum.org
SUMMARY:Little Hover World
DESCRIPTION:Little Hover World returns to The Hovercraft Museum for another summer of fun\, spot the little figures working\, hiding and playing around the museum.  So much to see and enjoy\, great fun for all the family and all ages.   
URL:https://hovercraft-museum.org/event/little-hover-world-2/2026-08-22/
CATEGORIES:Activity
ATTACH;FMTTYPE=image/jpeg:https://hovercraft-museum.org/wp-content/uploads/2026/03/Little-Hover-World.jpg
END:VEVENT
BEGIN:VEVENT
DTSTART;TZID=UTC:20260822T100000
DTEND;TZID=UTC:20260822T160000
DTSTAMP:20260421T111145
CREATED:20260310T204729Z
LAST-MODIFIED:20260310T204850Z
UID:10000952-1787392800-1787414400@hovercraft-museum.org
SUMMARY:Open Day
DESCRIPTION:
URL:https://hovercraft-museum.org/event/open-day/2026-08-22/
CATEGORIES:Open Day
ATTACH;FMTTYPE=image/png:https://hovercraft-museum.org/wp-content/uploads/2025/07/HOMEPAGE-Testimonials-IMAGE-1.png
END:VEVENT
END:VCALENDAR