BEGIN:VCALENDAR
VERSION:2.0
PRODID:-//Hovercraft Museum - ECPv6.15.16//NONSGML v1.0//EN
CALSCALE:GREGORIAN
METHOD:PUBLISH
X-WR-CALNAME:Hovercraft Museum
X-ORIGINAL-URL:https://hovercraft-museum.org
X-WR-CALDESC:Events for Hovercraft Museum
REFRESH-INTERVAL;VALUE=DURATION:PT1H
X-Robots-Tag:noindex
X-PUBLISHED-TTL:PT1H
BEGIN:VTIMEZONE
TZID:UTC
BEGIN:STANDARD
TZOFFSETFROM:+0000
TZOFFSETTO:+0000
TZNAME:UTC
DTSTART:20240101T000000
END:STANDARD
END:VTIMEZONE
BEGIN:VEVENT
DTSTART;TZID=UTC:20260321T200000
DTEND;TZID=UTC:20260322T010000
DTSTAMP:20260421T091849
CREATED:20250911T092911Z
LAST-MODIFIED:20250911T093016Z
UID:10000477-1774123200-1774141200@hovercraft-museum.org
SUMMARY:Paranormal Investigation
DESCRIPTION:Join us together with Spirit Chasers Paranormal UK as we embark on a paranormal investigation at The Hovercraft Museum in Lee-on-the-Solent.  Based on a former military site\, HMS Daedalus\, there have been many reports of activity from the years of military operation dating back to WW1.  Ranging from strange voices and noises to feeling cold and nauseous after an encounter.  You’ll have the opportunity to board at least three hovercraft and experience our WW1 era hangars. \n£28 per person
URL:https://hovercraft-museum.org/event/paranormal-investigation-2/
CATEGORIES:Ticketed Event
ATTACH;FMTTYPE=image/png:https://hovercraft-museum.org/wp-content/uploads/2025/09/Untitled-design-2.png
END:VEVENT
BEGIN:VEVENT
DTSTART;TZID=UTC:20251206T103000
DTEND;TZID=UTC:20251206T124500
DTSTAMP:20260421T091849
CREATED:20250905T141612Z
LAST-MODIFIED:20251204T171735Z
UID:10000618-1765017000-1765025100@hovercraft-museum.org
SUMMARY:Hover-Crafting with the Elves
DESCRIPTION:Come and join us for a filled morning\nof Christmas fun with a range of craft activities\nto enjoy. \nMeet some of Father Christmas’ Elves who\nwill share in the excitement and deliver a gift\nbag from Father Christmas to take home. \nBook Now!
URL:https://hovercraft-museum.org/event/crafts-with-santa/2025-12-06/
LOCATION:The Hovercraft Museum\, Marine Parade West\, Lee-on-the-Solent\, Hampshire\, PO13 9NS\, United Kingdom
CATEGORIES:Ticketed Event
ATTACH;FMTTYPE=image/png:https://hovercraft-museum.org/wp-content/uploads/2025/09/hover_crafting_with_the_elves.png
END:VEVENT
BEGIN:VEVENT
DTSTART;TZID=UTC:20251129T103000
DTEND;TZID=UTC:20251129T124500
DTSTAMP:20260421T091849
CREATED:20250905T141612Z
LAST-MODIFIED:20251204T171735Z
UID:10000617-1764412200-1764420300@hovercraft-museum.org
SUMMARY:Hover-Crafting with the Elves
DESCRIPTION:Come and join us for a filled morning\nof Christmas fun with a range of craft activities\nto enjoy. \nMeet some of Father Christmas’ Elves who\nwill share in the excitement and deliver a gift\nbag from Father Christmas to take home. \nBook Now!
URL:https://hovercraft-museum.org/event/crafts-with-santa/2025-11-29/
LOCATION:The Hovercraft Museum\, Marine Parade West\, Lee-on-the-Solent\, Hampshire\, PO13 9NS\, United Kingdom
CATEGORIES:Ticketed Event
ATTACH;FMTTYPE=image/png:https://hovercraft-museum.org/wp-content/uploads/2025/09/hover_crafting_with_the_elves.png
END:VEVENT
END:VCALENDAR